{
 "currentVersion": 11.5,
 "serviceDescription": "Bathymetric data has been downloaded in ascii format from EMODnet portal http://portal.emodnet-bathymetry.eu/mean-depth-rainbow-colour-ramp-no-land-data?menu=19.Starting from this data we create a raster tif with best characteristics for a fast and accurate bathymetry image web service.",
 "name": "Marine/Bathymetry_ETRS89",
 "description": "Bathymetric data has been downloaded in ascii format from EMODnet portal http://portal.emodnet-bathymetry.eu/mean-depth-rainbow-colour-ramp-no-land-data?menu=19.Starting from this data we create a raster tif with best characteristics for a fast and accurate bathymetry image web service.",
 "extent": {
  "xmin": -163038.33700261917,
  "ymin": 239428.39336797502,
  "xmax": 7639149.813167399,
  "ymax": 6995027.092674697,
  "spatialReference": {
   "wkt2": "PROJCRS[\"ETRS_1989_LAEA\",BASEGEOGCRS[\"GCS_ETRS_1989\",DATUM[\"D_IRENET95\",ELLIPSOID[\"GRS_1980\",6378137.0,298.257222101,LENGTHUNIT[\"Meter\",1.0]]],PRIMEM[\"Greenwich\",0.0,ANGLEUNIT[\"Degree\",0.0174532925199433]],CS[ellipsoidal,2],ANGLEUNIT[\"Degree\",0.0174532925199433]],CONVERSION[\"Lambert_Azimuthal_Equal_Area\",METHOD[\"Lambert_Azimuthal_Equal_Area\"],PARAMETER[\"False_Easting\",4321000.0,LENGTHUNIT[\"Meter\",1.0]],PARAMETER[\"False_Northing\",3210000.0,LENGTHUNIT[\"Meter\",1.0]],PARAMETER[\"Central_Meridian\",10.0,ANGLEUNIT[\"Degree\",0.0174532925199433]],PARAMETER[\"Latitude_Of_Origin\",52.0,ANGLEUNIT[\"Degree\",0.0174532925199433]]],CS[Cartesian,2],AXIS[\"Easting (X)\",east,ORDER[1]],AXIS[\"Northing (Y)\",north,ORDER[2]],LENGTHUNIT[\"Meter\",1.0]]",
   "wkt": "PROJCS[\"ETRS_1989_LAEA\",GEOGCS[\"GCS_ETRS_1989\",DATUM[\"D_IRENET95\",SPHEROID[\"GRS_1980\",6378137.0,298.257222101]],PRIMEM[\"Greenwich\",0.0],UNIT[\"Degree\",0.0174532925199433]],PROJECTION[\"Lambert_Azimuthal_Equal_Area\"],PARAMETER[\"False_Easting\",4321000.0],PARAMETER[\"False_Northing\",3210000.0],PARAMETER[\"Central_Meridian\",10.0],PARAMETER[\"Latitude_Of_Origin\",52.0],UNIT[\"Meter\",1.0]]"
  }
 },
 "initialExtent": {
  "xmin": -163038.33700261917,
  "ymin": 239428.39336797502,
  "xmax": 7639149.813167399,
  "ymax": 6995027.092674697,
  "spatialReference": {
   "wkt2": "PROJCRS[\"ETRS_1989_LAEA\",BASEGEOGCRS[\"GCS_ETRS_1989\",DATUM[\"D_IRENET95\",ELLIPSOID[\"GRS_1980\",6378137.0,298.257222101,LENGTHUNIT[\"Meter\",1.0]]],PRIMEM[\"Greenwich\",0.0,ANGLEUNIT[\"Degree\",0.0174532925199433]],CS[ellipsoidal,2],ANGLEUNIT[\"Degree\",0.0174532925199433]],CONVERSION[\"Lambert_Azimuthal_Equal_Area\",METHOD[\"Lambert_Azimuthal_Equal_Area\"],PARAMETER[\"False_Easting\",4321000.0,LENGTHUNIT[\"Meter\",1.0]],PARAMETER[\"False_Northing\",3210000.0,LENGTHUNIT[\"Meter\",1.0]],PARAMETER[\"Central_Meridian\",10.0,ANGLEUNIT[\"Degree\",0.0174532925199433]],PARAMETER[\"Latitude_Of_Origin\",52.0,ANGLEUNIT[\"Degree\",0.0174532925199433]]],CS[Cartesian,2],AXIS[\"Easting (X)\",east,ORDER[1]],AXIS[\"Northing (Y)\",north,ORDER[2]],LENGTHUNIT[\"Meter\",1.0]]",
   "wkt": "PROJCS[\"ETRS_1989_LAEA\",GEOGCS[\"GCS_ETRS_1989\",DATUM[\"D_IRENET95\",SPHEROID[\"GRS_1980\",6378137.0,298.257222101]],PRIMEM[\"Greenwich\",0.0],UNIT[\"Degree\",0.0174532925199433]],PROJECTION[\"Lambert_Azimuthal_Equal_Area\"],PARAMETER[\"False_Easting\",4321000.0],PARAMETER[\"False_Northing\",3210000.0],PARAMETER[\"Central_Meridian\",10.0],PARAMETER[\"Latitude_Of_Origin\",52.0],UNIT[\"Meter\",1.0]]"
  }
 },
 "fullExtent": {
  "xmin": -163038.33700261917,
  "ymin": 239428.39336797502,
  "xmax": 7639149.813167399,
  "ymax": 6995027.092674697,
  "spatialReference": {
   "wkt2": "PROJCRS[\"ETRS_1989_LAEA\",BASEGEOGCRS[\"GCS_ETRS_1989\",DATUM[\"D_IRENET95\",ELLIPSOID[\"GRS_1980\",6378137.0,298.257222101,LENGTHUNIT[\"Meter\",1.0]]],PRIMEM[\"Greenwich\",0.0,ANGLEUNIT[\"Degree\",0.0174532925199433]],CS[ellipsoidal,2],ANGLEUNIT[\"Degree\",0.0174532925199433]],CONVERSION[\"Lambert_Azimuthal_Equal_Area\",METHOD[\"Lambert_Azimuthal_Equal_Area\"],PARAMETER[\"False_Easting\",4321000.0,LENGTHUNIT[\"Meter\",1.0]],PARAMETER[\"False_Northing\",3210000.0,LENGTHUNIT[\"Meter\",1.0]],PARAMETER[\"Central_Meridian\",10.0,ANGLEUNIT[\"Degree\",0.0174532925199433]],PARAMETER[\"Latitude_Of_Origin\",52.0,ANGLEUNIT[\"Degree\",0.0174532925199433]]],CS[Cartesian,2],AXIS[\"Easting (X)\",east,ORDER[1]],AXIS[\"Northing (Y)\",north,ORDER[2]],LENGTHUNIT[\"Meter\",1.0]]",
   "wkt": "PROJCS[\"ETRS_1989_LAEA\",GEOGCS[\"GCS_ETRS_1989\",DATUM[\"D_IRENET95\",SPHEROID[\"GRS_1980\",6378137.0,298.257222101]],PRIMEM[\"Greenwich\",0.0],UNIT[\"Degree\",0.0174532925199433]],PROJECTION[\"Lambert_Azimuthal_Equal_Area\"],PARAMETER[\"False_Easting\",4321000.0],PARAMETER[\"False_Northing\",3210000.0],PARAMETER[\"Central_Meridian\",10.0],PARAMETER[\"Latitude_Of_Origin\",52.0],UNIT[\"Meter\",1.0]]"
  }
 },
 "sortableFields": "",
 "bandCount": 1,
 "pixelType": "S32",
 "minValues": [
  -6809
 ],
 "maxValues": [
  950
 ],
 "meanValues": [
  -2299.8351228012
 ],
 "stdvValues": [
  1727.2337281623
 ],
 "serviceProperties": "Center<\/MosaicMethod>First<\/MosaicOperator>true<\/SortAscending><\/LockImageID><\/TileOrderField>0<\/TileOrderBase>0.000000<\/AvgImageSpacingX>0.000000<\/AvgImageSpacingY>0.0<\/ViewPointX>0.0<\/ViewPointY>0.0<\/ViewPointDefShiftX>0.0<\/ViewPointDefShiftY>None<\/CompressionMethod>75<\/CompressionQuality>0.010000<\/CompressionTolerance>Bilinear<\/SamplingMethod><\/ImageServiceProperties><\/ImageServer>",
 "allowedFields": "",
 "hasMultidimensions": false,
 "pixelSizeX": 219.68712234745934,
 "pixelSizeY": 219.68712234745934,
 "meanPixelSize": 219.68712234745934,
 "datasetFormat": "TIFF",
 "uncompressedSize": 4368487060,
 "blockWidth": 128,
 "blockHeight": 128,
 "compressionType": "LZW",
 "bandNames": [
  "Band_1"
 ],
 "allowCopy": true,
 "allowAnalysis": true,
 "itemAccess": false,
 "inspectionCapabilities": "",
 "noDataValue": 2147483647,
 "noDataValues": [
  2147483647
 ],
 "minPixelSize": 0,
 "maxPixelSize": 0,
 "copyrightText": "© European Environment Agency",
 "serviceDataType": "esriImageServiceDataTypeGeneric",
 "serviceSourceType": "esriImageServiceSourceTypeDataset",
 "objectIdField": "",
 "fields": [],
 "capabilities": "Mensuration,Image,Metadata",
 "defaultMosaicMethod": "Center",
 "allowedMosaicMethods": "",
 "sortField": "",
 "sortValue": null,
 "sortAscending": true,
 "mosaicOperator": "First",
 "defaultCompressionQuality": 75,
 "defaultResamplingMethod": "Bilinear",
 "maxImageHeight": 4100,
 "maxImageWidth": 15000,
 "allowRasterFunction": true,
 "rasterFunctionInfos": [
  {
   "name": "BathymetryStretched",
   "description": "A raster function template.",
   "help": ""
  },
  {
   "name": "None",
   "description": "",
   "help": ""
  }
 ],
 "rasterTypeInfos": [
  {
   "name": "Raster Dataset",
   "description": "Supports all ArcGIS Raster Datasets",
   "help": ""
  }
 ],
 "mensurationCapabilities": "Basic",
 "hasHistograms": true,
 "hasColormap": false,
 "hasRasterAttributeTable": false,
 "minScale": 0,
 "maxScale": 0,
 "exportTilesAllowed": false,
 "supportsStatistics": false,
 "supportsAdvancedQueries": false,
 "editFieldsInfo": null,
 "ownershipBasedAccessControlForRasters": null,
 "allowComputeTiePoints": false,
 "useStandardizedQueries": true,
 "advancedQueryCapabilities": {
  "useStandardizedQueries": true,
  "supportsStatistics": false,
  "supportsOrderBy": false,
  "supportsDistinct": false,
  "supportsPagination": false
 },
 "spatialReference": {
  "wkt2": "PROJCRS[\"ETRS_1989_LAEA\",BASEGEOGCRS[\"GCS_ETRS_1989\",DATUM[\"D_IRENET95\",ELLIPSOID[\"GRS_1980\",6378137.0,298.257222101,LENGTHUNIT[\"Meter\",1.0]]],PRIMEM[\"Greenwich\",0.0,ANGLEUNIT[\"Degree\",0.0174532925199433]],CS[ellipsoidal,2],ANGLEUNIT[\"Degree\",0.0174532925199433]],CONVERSION[\"Lambert_Azimuthal_Equal_Area\",METHOD[\"Lambert_Azimuthal_Equal_Area\"],PARAMETER[\"False_Easting\",4321000.0,LENGTHUNIT[\"Meter\",1.0]],PARAMETER[\"False_Northing\",3210000.0,LENGTHUNIT[\"Meter\",1.0]],PARAMETER[\"Central_Meridian\",10.0,ANGLEUNIT[\"Degree\",0.0174532925199433]],PARAMETER[\"Latitude_Of_Origin\",52.0,ANGLEUNIT[\"Degree\",0.0174532925199433]]],CS[Cartesian,2],AXIS[\"Easting (X)\",east,ORDER[1]],AXIS[\"Northing (Y)\",north,ORDER[2]],LENGTHUNIT[\"Meter\",1.0]]",
  "wkt": "PROJCS[\"ETRS_1989_LAEA\",GEOGCS[\"GCS_ETRS_1989\",DATUM[\"D_IRENET95\",SPHEROID[\"GRS_1980\",6378137.0,298.257222101]],PRIMEM[\"Greenwich\",0.0],UNIT[\"Degree\",0.0174532925199433]],PROJECTION[\"Lambert_Azimuthal_Equal_Area\"],PARAMETER[\"False_Easting\",4321000.0],PARAMETER[\"False_Northing\",3210000.0],PARAMETER[\"Central_Meridian\",10.0],PARAMETER[\"Latitude_Of_Origin\",52.0],UNIT[\"Meter\",1.0]]"
 },
 "resampling": false
}
